BEGIN:VCALENDAR
VERSION:2.0
PRODID:-//ACEC - American Council of Engineering Companies of Mississippi - ECPv6.15.20//NONSGML v1.0//EN
CALSCALE:GREGORIAN
METHOD:PUBLISH
X-WR-CALNAME:ACEC - American Council of Engineering Companies of Mississippi
X-ORIGINAL-URL:https://acecms.org
X-WR-CALDESC:Events for ACEC - American Council of Engineering Companies of Mississippi
REFRESH-INTERVAL;VALUE=DURATION:PT1H
X-Robots-Tag:noindex
X-PUBLISHED-TTL:PT1H
BEGIN:VTIMEZONE
TZID:America/Chicago
BEGIN:DAYLIGHT
TZOFFSETFROM:-0600
TZOFFSETTO:-0500
TZNAME:CDT
DTSTART:20240310T080000
END:DAYLIGHT
BEGIN:STANDARD
TZOFFSETFROM:-0500
TZOFFSETTO:-0600
TZNAME:CST
DTSTART:20241103T070000
END:STANDARD
BEGIN:DAYLIGHT
TZOFFSETFROM:-0600
TZOFFSETTO:-0500
TZNAME:CDT
DTSTART:20250309T080000
END:DAYLIGHT
BEGIN:STANDARD
TZOFFSETFROM:-0500
TZOFFSETTO:-0600
TZNAME:CST
DTSTART:20251102T070000
END:STANDARD
BEGIN:DAYLIGHT
TZOFFSETFROM:-0600
TZOFFSETTO:-0500
TZNAME:CDT
DTSTART:20260308T080000
END:DAYLIGHT
BEGIN:STANDARD
TZOFFSETFROM:-0500
TZOFFSETTO:-0600
TZNAME:CST
DTSTART:20261101T070000
END:STANDARD
BEGIN:DAYLIGHT
TZOFFSETFROM:-0600
TZOFFSETTO:-0500
TZNAME:CDT
DTSTART:20270314T080000
END:DAYLIGHT
BEGIN:STANDARD
TZOFFSETFROM:-0500
TZOFFSETTO:-0600
TZNAME:CST
DTSTART:20271107T070000
END:STANDARD
END:VTIMEZONE
BEGIN:VEVENT
DTSTART;VALUE=DATE:20260421
DTEND;VALUE=DATE:20260423
DTSTAMP:20260422T170834
CREATED:20260126T201347Z
LAST-MODIFIED:20260323T192427Z
UID:620-1776729600-1776902399@acecms.org
SUMMARY:ACEC/MS 2026 Spring Meeting
DESCRIPTION:ACEC/MS 2026 Spring Meeting RegistrationPlease enable JavaScript in your browser to complete this form.Please enable JavaScript in your browser to complete this form.April 21 - 22\, 2026\nMississippi State University\nApril 21 Reception\nRooftop of the Lofts\, Dudy Noble Field\nDoors open 5:00 \nApril 22 Meeting\nRula Engineering and Science Complex \nRooftop/Game Tickets: $45 \nMembers: $150 \nNon-Members: $200 \nSponsorship Costs:\n$500 National Championship Sponsorship\n$400 Omaha Sponsorship\n$300 Super Regional Sponsorship\n$200 Regional Sponsorship\nNot a Sponsor \nCustomer Name *FirstLastThe name associated with the purchase for receipt purposes.Customer Email *The email address you would like to recieve the receipt of purchase.\n				Name of Registrant(s) - First and Last Name\n			Name of Registrant *FirstLast\n				\n					\n				\n				\n					\n				\n			Firm *Rooftop/Game Tickets *Price: $45.000123456789101112131415161718192021222324252627282930313233343536373839404142434445464748495051525354555657585960616263646566676869707172737475767778798081828384858687888990919293949596979899100Please include the total number of members you wish to register.Attending Members  *Price: $150.000123456789101112131415161718192021222324252627282930313233343536373839404142434445464748495051525354555657585960616263646566676869707172737475767778798081828384858687888990919293949596979899100Please include the total number of members you wish to register.		\n			Rooftop/Game Stripe Members\n			\n		\n		Attending Non-Members *Price: $200.000123456789101112131415161718192021222324252627282930313233343536373839404142434445464748495051525354555657585960616263646566676869707172737475767778798081828384858687888990919293949596979899100Please include the total number of non-members you wish to register.Sponsorship Costs: *National Championship Sponsorship - $500.00Omaha Sponsorship - $400.00Super Regional Sponsorship - $300.00Regional Sponsorship - $200.00Not A Sponsor - $0.00Total$0.00Stripe Credit Card *Register Now!
URL:https://acecms.org/event/acec-ms-spring-meeting/
END:VEVENT
BEGIN:VEVENT
DTSTART;TZID=America/Chicago:20260225T080000
DTEND;TZID=America/Chicago:20260225T113000
DTSTAMP:20260422T170834
CREATED:20260126T201251Z
LAST-MODIFIED:20260128T154021Z
UID:618-1772006400-1772019000@acecms.org
SUMMARY:ACEC/MS Capitol Day
DESCRIPTION:ACEC/MS Capitol Day\n8:00 a.m. – 11:30 a.m.\nMississippi State Capitol
URL:https://acecms.org/event/acec-ms-capitol-day/
END:VEVENT
BEGIN:VEVENT
DTSTART;VALUE=DATE:20260106
DTEND;VALUE=DATE:20260107
DTSTAMP:20260422T170834
CREATED:20251014T161928Z
LAST-MODIFIED:20251014T161928Z
UID:583-1767657600-1767743999@acecms.org
SUMMARY:Mississippi Legislative Session
DESCRIPTION:Begins January 6\, 2026
URL:https://acecms.org/event/mississippi-legislative-session/
END:VEVENT
BEGIN:VEVENT
DTSTART;TZID=America/Chicago:20251119T080000
DTEND;TZID=America/Chicago:20251119T150000
DTSTAMP:20260422T170834
CREATED:20251014T161847Z
LAST-MODIFIED:20251016T170616Z
UID:582-1763539200-1763564400@acecms.org
SUMMARY:ACEC/MS Fall Meeting
DESCRIPTION:ACEC/MS Fall Meeting\n\nNovember 19\, 2025\n8:00 a.m. – 3:00 p.m. \nGulfport Yacht Club\n800 East Pier Road\nGulfport\, MS \nMember: $130\nNon-Member: $175 \nSponsorship Costs:\n$500 – Platinum Sponsor\n$400 – Gold Sponsor\n$300 – Silver Sponsor\n$200 – Bronze Sponsor \n\n\nPlease enable JavaScript in your browser to complete this form.Please enable JavaScript in your browser to complete this form.\n				Name of Registrant(s) - First and Last Name\n			Name of Registrant *FirstLast\n				\n					\n				\n				\n					\n				\n			Firm *Attending Members *Price: $130.000123456789101112131415161718192021222324252627282930313233343536373839404142434445464748495051525354555657585960616263646566676869707172737475767778798081828384858687888990919293949596979899100Please include the total number of members you wish to register.Attending Non-Members *Price: $175.000123456789101112131415161718192021222324252627282930313233343536373839404142434445464748495051525354555657585960616263646566676869707172737475767778798081828384858687888990919293949596979899100Please include the total number of non-members you wish to register.Sponsorship Costs: *Platinum Sponsor - $500.00Gold Sponsor - $400.00Silver Sponsor - $300.00Bronze Sponsor - $200.00Not A Sponsor - $0.00		\n			and Firm Sponsorship\n			\n		\n		Total$0.00Stripe Credit Card *Register Now!
URL:https://acecms.org/event/acec-ms-fall-meeting/
END:VEVENT
BEGIN:VEVENT
DTSTART;VALUE=DATE:20251005
DTEND;VALUE=DATE:20251010
DTSTAMP:20260422T170834
CREATED:20250207T210123Z
LAST-MODIFIED:20250207T210123Z
UID:342-1759622400-1760054399@acecms.org
SUMMARY:ACEC National Fall Conference
DESCRIPTION:San Diego\, CA – Marriott Marquis San Diego Marina
URL:https://acecms.org/event/acec-national-fall-conference/
LOCATION:San Diego\, CA\, 91911\, San Diego\, United States
END:VEVENT
BEGIN:VEVENT
DTSTART;TZID=America/Chicago:20250911T090000
DTEND;TZID=America/Chicago:20250911T150000
DTSTAMP:20260422T170834
CREATED:20250804T190446Z
LAST-MODIFIED:20250812T145538Z
UID:551-1757581200-1757602800@acecms.org
SUMMARY:Roosevelt Day
DESCRIPTION:Roosevelt Day\nSeptember 11\, 2025\n9:00 am – 3:00 pm\nMississippi Ag Museum\nJackson\, MS \nPlease enable JavaScript in your browser to complete this form.Please enable JavaScript in your browser to complete this form.		\n			Member to Name\n			\n		\n		Roosevelt Day Payment Options:\n\nMember Registration - $100/person\nNon-Member Registration - $125/person\nSponsorships:\n\n\nMeeting Sponsorship - $200\nRegistration Table Sponsor - $300\nLunch Sponsor - $400\n\nFirm:  *\n				Name of Registrant (s)\n			Name *FirstLastClick the + to add more names\n				\n					\n				\n				\n					\n				\n			Billing Name *FirstLastBilling Address *Address Line 1Address Line 2City--- Select state ---AlabamaAlaskaArizonaArkansasCaliforniaColoradoConnecticutDelawareDistrict of ColumbiaFloridaGeorgiaHawaiiIdahoIllinoisIndianaIowaKansasKentuckyLouisianaMaineMarylandMassachusettsMichiganMinnesotaMississippiMissouriMontanaNebraskaNevadaNew HampshireNew JerseyNew MexicoNew YorkNorth CarolinaNorth DakotaOhioOklahomaOregonPennsylvaniaRhode IslandSouth CarolinaSouth DakotaTennesseeTexasUtahVermontVirginiaWashingtonWest VirginiaWisconsinWyomingStateZip CodePhone *Email Address: *Member Registration Price: $100.00012345678910$100/personNon-Member RegistrationPrice: $125.00012345678910$125/person  SponsorshipsMeeting Sponsorship - $200.00Registration Table Sponsor - $300.00Lunch Sponsor - $400.00Suggested Topics to CoverTotal$0.00Stripe Credit Card *Submit Registration
URL:https://acecms.org/event/roosevelt-day/
END:VEVENT
BEGIN:VEVENT
DTSTART;VALUE=DATE:20250724
DTEND;VALUE=DATE:20250727
DTSTAMP:20260422T170834
CREATED:20250207T205814Z
LAST-MODIFIED:20250506T194116Z
UID:341-1753315200-1753574399@acecms.org
SUMMARY:ACEC Deep South Convention
DESCRIPTION:Sandestin\, FL – Grand Sandestin Hotel
URL:https://acecms.org/event/acec-deep-south-convention/
LOCATION:9500 Grand Sandestin Blvd\, Miramar Beach\, FL 32550\, 9500 Grand Sandestin Blvd\, Miramar Beach\, 32550\, United States
END:VEVENT
BEGIN:VEVENT
DTSTART;VALUE=DATE:20250518
DTEND;VALUE=DATE:20250522
DTSTAMP:20260422T170834
CREATED:20250207T205655Z
LAST-MODIFIED:20250314T195121Z
UID:340-1747526400-1747871999@acecms.org
SUMMARY:ACEC National Annual Convention and Legislative Summit
DESCRIPTION:Washington\, DC – Grand Hyatt \nhttps://convention.acec.org/
URL:https://acecms.org/event/acec-national-annual-convention-and-legislative-summit/
LOCATION:Washington D.C.\, 1000 H St NW\, Washington DC\, DC\, 20001\, United States
END:VEVENT
END:VCALENDAR