BEGIN:VCALENDAR
VERSION:2.0
PRODID:-//ACEC - American Council of Engineering Companies of Mississippi - ECPv6.15.20//NONSGML v1.0//EN
CALSCALE:GREGORIAN
METHOD:PUBLISH
X-ORIGINAL-URL:https://acecms.org
X-WR-CALDESC:Events for ACEC - American Council of Engineering Companies of Mississippi
REFRESH-INTERVAL;VALUE=DURATION:PT1H
X-Robots-Tag:noindex
X-PUBLISHED-TTL:PT1H
BEGIN:VTIMEZONE
TZID:America/Chicago
BEGIN:DAYLIGHT
TZOFFSETFROM:-0600
TZOFFSETTO:-0500
TZNAME:CDT
DTSTART:20250309T080000
END:DAYLIGHT
BEGIN:STANDARD
TZOFFSETFROM:-0500
TZOFFSETTO:-0600
TZNAME:CST
DTSTART:20251102T070000
END:STANDARD
BEGIN:DAYLIGHT
TZOFFSETFROM:-0600
TZOFFSETTO:-0500
TZNAME:CDT
DTSTART:20260308T080000
END:DAYLIGHT
BEGIN:STANDARD
TZOFFSETFROM:-0500
TZOFFSETTO:-0600
TZNAME:CST
DTSTART:20261101T070000
END:STANDARD
BEGIN:DAYLIGHT
TZOFFSETFROM:-0600
TZOFFSETTO:-0500
TZNAME:CDT
DTSTART:20270314T080000
END:DAYLIGHT
BEGIN:STANDARD
TZOFFSETFROM:-0500
TZOFFSETTO:-0600
TZNAME:CST
DTSTART:20271107T070000
END:STANDARD
END:VTIMEZONE
BEGIN:VEVENT
DTSTART;TZID=America/Chicago:20260225T080000
DTEND;TZID=America/Chicago:20260225T113000
DTSTAMP:20260422T170818
CREATED:20260126T201251Z
LAST-MODIFIED:20260128T154021Z
UID:618-1772006400-1772019000@acecms.org
SUMMARY:ACEC/MS Capitol Day
DESCRIPTION:ACEC/MS Capitol Day\n8:00 a.m. – 11:30 a.m.\nMississippi State Capitol
URL:https://acecms.org/event/acec-ms-capitol-day/
END:VEVENT
BEGIN:VEVENT
DTSTART;VALUE=DATE:20260421
DTEND;VALUE=DATE:20260423
DTSTAMP:20260422T170818
CREATED:20260126T201347Z
LAST-MODIFIED:20260323T192427Z
UID:620-1776729600-1776902399@acecms.org
SUMMARY:ACEC/MS 2026 Spring Meeting
DESCRIPTION:ACEC/MS 2026 Spring Meeting RegistrationPlease enable JavaScript in your browser to complete this form.Please enable JavaScript in your browser to complete this form.		\n			Customer Name Members\n			\n		\n		April 21 - 22\, 2026\nMississippi State University\nApril 21 Reception\nRooftop of the Lofts\, Dudy Noble Field\nDoors open 5:00 \nApril 22 Meeting\nRula Engineering and Science Complex \nRooftop/Game Tickets: $45 \nMembers: $150 \nNon-Members: $200 \nSponsorship Costs:\n$500 National Championship Sponsorship\n$400 Omaha Sponsorship\n$300 Super Regional Sponsorship\n$200 Regional Sponsorship\nNot a Sponsor \nCustomer Name *FirstLastThe name associated with the purchase for receipt purposes.Customer Email *The email address you would like to recieve the receipt of purchase.\n				Name of Registrant(s) - First and Last Name\n			Name of Registrant *FirstLast\n				\n					\n				\n				\n					\n				\n			Firm *Rooftop/Game Tickets *Price: $45.000123456789101112131415161718192021222324252627282930313233343536373839404142434445464748495051525354555657585960616263646566676869707172737475767778798081828384858687888990919293949596979899100Please include the total number of members you wish to register.Attending Members  *Price: $150.000123456789101112131415161718192021222324252627282930313233343536373839404142434445464748495051525354555657585960616263646566676869707172737475767778798081828384858687888990919293949596979899100Please include the total number of members you wish to register.Attending Non-Members *Price: $200.000123456789101112131415161718192021222324252627282930313233343536373839404142434445464748495051525354555657585960616263646566676869707172737475767778798081828384858687888990919293949596979899100Please include the total number of non-members you wish to register.Sponsorship Costs: *National Championship Sponsorship - $500.00Omaha Sponsorship - $400.00Super Regional Sponsorship - $300.00Regional Sponsorship - $200.00Not A Sponsor - $0.00Total$0.00Stripe Credit Card *Register Now!
URL:https://acecms.org/event/acec-ms-spring-meeting/
END:VEVENT
BEGIN:VEVENT
DTSTART;VALUE=DATE:20260503
DTEND;VALUE=DATE:20260507
DTSTAMP:20260422T170818
CREATED:20251014T162038Z
LAST-MODIFIED:20260128T153451Z
UID:584-1777766400-1778111999@acecms.org
SUMMARY:ACEC National Convention & Legislative Summit
DESCRIPTION:ACEC National Convention & Legislative Summit\nMay 3 – 6\, 2026\nGrand Hyatt\, Washington\, DC
URL:https://acecms.org/event/acec-national-convention-legislative-summit/
END:VEVENT
BEGIN:VEVENT
DTSTART;VALUE=DATE:20260723
DTEND;VALUE=DATE:20260727
DTSTAMP:20260422T170818
CREATED:20251014T162133Z
LAST-MODIFIED:20260417T194529Z
UID:585-1784764800-1785110399@acecms.org
SUMMARY:2026 ACEC Deep South Convention & Trade Show
DESCRIPTION:2026 ACEC Deep South Convention & Trade Show\nJuly 23 -25\, 2026\nSandestin Golf & Beach Resort\n\nClick here to register online!
URL:https://acecms.org/event/2026-acec-deep-south-convention-trade-show/
END:VEVENT
BEGIN:VEVENT
DTSTART;VALUE=DATE:20261012
DTEND;VALUE=DATE:20261015
DTSTAMP:20260422T170818
CREATED:20260126T201614Z
LAST-MODIFIED:20260128T153350Z
UID:624-1791763200-1792022399@acecms.org
SUMMARY:ACEC/MS Fall Meeting
DESCRIPTION:ACEC/MS Fall Meeting\nIn conjunction with the Mississippi Transportation Institute (MTI) Convention.\nBeau Rivage Resort & Casino – Biloxi\, MS
URL:https://acecms.org/event/acec-ms-fall-meeting-2/
END:VEVENT
BEGIN:VEVENT
DTSTART;VALUE=DATE:20261025
DTEND;VALUE=DATE:20261029
DTSTAMP:20260422T170818
CREATED:20251014T162217Z
LAST-MODIFIED:20260128T153320Z
UID:586-1792886400-1793231999@acecms.org
SUMMARY:ACEC National Fall Conference
DESCRIPTION:ACEC National Fall Conference\nOctober 25 – 28\, 2026
URL:https://acecms.org/event/acec-national-fall-conference-2/
END:VEVENT
END:VCALENDAR